BEGIN:VCALENDAR
VERSION:2.0
PRODID:icalendar-ruby
CALSCALE:GREGORIAN
METHOD:PUBLISH
BEGIN:VEVENT
DTSTAMP:20260424T221202Z
UID:430-159181@salade.tithelysetup5.com
DTSTART:20261004T180000Z
DTEND:20261004T203000Z
CLASS:PUBLIC
CREATED:20260424T131629
DESCRIPTION:"Te invitamos a vivir un tiempo especial de adoración\, oraci
 ón y enseñanza bíblica en un ambiente familiar y lleno del Espíritu Sa
 nto. Aquí podrás conocer más de Dios\, recibir ánimo para tu vida y fo
 rmar parte de una comunidad que te ama y te apoya."
LAST-MODIFIED:20260424T131629
LOCATION:1031 San Leandro Blvd. San Leandro\, CA 94577
SUMMARY:Servicio Dominical 
URL;VALUE=URI:https://saladeoracion.com/events/servicio-dominical/2026-10-0
 4
END:VEVENT
END:VCALENDAR
