BEGIN:VCALENDAR
VERSION:2.0
PRODID:icalendar-ruby
CALSCALE:GREGORIAN
METHOD:PUBLISH
BEGIN:VEVENT
DTSTAMP:20260424T185712Z
UID:430-159084@salade.tithelysetup5.com
DTSTART:20260920T180000Z
DTEND:20260920T203000Z
CLASS:PUBLIC
CREATED:20260424T102929
DESCRIPTION:"Te invitamos a vivir un tiempo especial de adoración\, oraci
 ón y enseñanza bíblica en un ambiente familiar y lleno del Espíritu Sa
 nto. Aquí podrás conocer más de Dios\, recibir ánimo para tu vida y fo
 rmar parte de una comunidad que te ama y te apoya."
LAST-MODIFIED:20260424T102929
LOCATION:1031 San Leandro Blvd. San Leandro\, CA 94577
SUMMARY:Servicio Dominical 
URL;VALUE=URI:https://saladeoracion.com/events/servicio-dominical/2026-09-2
 0
END:VEVENT
END:VCALENDAR
